BEGIN:VCALENDAR
VERSION:2.0
PRODID:-//Shoreline Art &amp; Music - ECPv6.15.20//NONSGML v1.0//EN
CALSCALE:GREGORIAN
METHOD:PUBLISH
X-WR-CALNAME:Shoreline Art &amp; Music
X-ORIGINAL-URL:https://shorelineartandmusic.com
X-WR-CALDESC:Events for Shoreline Art &amp; Music
REFRESH-INTERVAL;VALUE=DURATION:PT1H
X-Robots-Tag:noindex
X-PUBLISHED-TTL:PT1H
BEGIN:VTIMEZONE
TZID:UTC
BEGIN:STANDARD
TZOFFSETFROM:+0000
TZOFFSETTO:+0000
TZNAME:UTC
DTSTART:20250101T000000
END:STANDARD
END:VTIMEZONE
BEGIN:VEVENT
DTSTART;VALUE=DATE:20260101
DTEND;VALUE=DATE:20270102
DTSTAMP:20260420T014510
CREATED:20250925T052529Z
LAST-MODIFIED:20250925T052930Z
UID:989-1767225600-1798847999@shorelineartandmusic.com
SUMMARY:Student Concerts at Frost School of Music
DESCRIPTION:Frost School of Music boast impressive facilities\, including concert halls\, recording studios\, and a technology center\, all designed to enhance the musical education experience. The innovative teaching method and curriculum equips students with essential artistic\, technological\, and entrepreneurial skills necessary for success in the modern music industry. \nAs part of the University of Miami\, the school offers a lively calendar of concerts featuring performances by award-winning faculty and talented students. Audiences can enjoy a diverse range of music\, from classical and jazz to contemporary works\, along with engaging lectures and masterclasses that enrich the learning environment. \nThe School of Music offers a virtual concert series on YouTube\, featuring live streams and performance schedules\, allowing music enthusiasts to enjoy these events from home or at the Coral Gables facilities near Florida’s shorelines.
URL:https://shorelineartandmusic.com/event/student-concerts-frost-music-school/
LOCATION:Frost Music School – University of Miami\, 1314 Miller Dr.\, Coral Gables\, FL\, 33146\, United States
CATEGORIES:Music Events,Music School Show
ATTACH;FMTTYPE=image/webp:https://shorelineartandmusic.com/wp-content/uploads/2025/05/pexels-cottonbro-7097459.webp
END:VEVENT
BEGIN:VEVENT
DTSTART;VALUE=DATE:20260101
DTEND;VALUE=DATE:20270102
DTSTAMP:20260420T014510
CREATED:20250925T052839Z
LAST-MODIFIED:20250925T052839Z
UID:940-1767225600-1798847999@shorelineartandmusic.com
SUMMARY:Spring Recitals at Juilliard Music School
DESCRIPTION:Spring recitals of both classical and contemporary music at Juilliard Music School showcase students’ performances. This school offers over 800 performances annually in music\, dance\, and drama\, with many events free of charge or at an affordable price. \nThe diverse lineup includes large and small performances\, featuring both new works and classic pieces\, ensuring there’s something for everyone. Upcoming events include a variety of recitals\, operas\, and orchestral and chamber music performances\, highlighting the talent of Juilliard’s students and faculty. \nAttendees can enjoy these performances in person in New York City or through live-streaming options from home. Check up the school’s show calendar to keep track of events to enjoy its rich artistic offerings.
URL:https://shorelineartandmusic.com/event/spring-recitals-at-juilliard-music-school/
LOCATION:Art & Music School Shows\, 155 W. 65th St.\,\, New York\, NY\, New Yourk\, 10023
ATTACH;FMTTYPE=image/webp:https://shorelineartandmusic.com/wp-content/uploads/2025/05/pexels-cottonbro-7097459.webp
END:VEVENT
BEGIN:VEVENT
DTSTART;VALUE=DATE:20260415
DTEND;VALUE=DATE:20260516
DTSTAMP:20260420T014510
CREATED:20250925T051743Z
LAST-MODIFIED:20250925T053002Z
UID:946-1776211200-1778889599@shorelineartandmusic.com
SUMMARY:Popular Music Annual Showcase - Berklee Institute
DESCRIPTION:The Popular Music Annual Showcase at Berklee Institute (BPMI) is a school show event where students select artists to represent the music institute at major summer music festivals. \nThe institute offers various free workshops and clinics\, including vocal training\, guitar sessions\, and masterclasses in various music disciplines\, providing valuable learning opportunities for aspiring musicians and industry professionals. \nThe BPMI Live program immerses students in the live music scene through hands-on experiences. It holds around 1\,500 concerts and events annually\, highlighting the talents of students\, faculty\, and alumni. \nA variety of free concerts and live-streamed recitals make the institute more accessible to tourists visiting the Boston area and music fans worldwide.
URL:https://shorelineartandmusic.com/event/free-popular-music-showcase/
LOCATION:Brighton Music Hall\, 158 Brighton Avenue\, Boston\, MA\, United States
ATTACH;FMTTYPE=image/webp:https://shorelineartandmusic.com/wp-content/uploads/2025/05/pexels-cottonbro-7097459.webp
END:VEVENT
BEGIN:VEVENT
DTSTART;VALUE=DATE:20260420
DTEND;VALUE=DATE:20260512
DTSTAMP:20260420T014510
CREATED:20250925T051632Z
LAST-MODIFIED:20250925T051705Z
UID:925-1776643200-1778543999@shorelineartandmusic.com
SUMMARY:Palm Coast Songwriters Festival
DESCRIPTION:The Palm Coast Songwriters Festival\, taking place from the end of April to May\, is an exceptional gathering in Palm Coast\, Florida\, honoring the craft of songwriting. This festival features both renowned artists and emerging songwriters who share their stories and perform original songs in an intimate atmosphere\, allowing attendees to experience the creative process behind hit music. \nThe primary location for the festival is the Daytona State College Palm Coast Amphitheater\, situated at 545 Colbert Lane. Tickets begin at just $30\, and there are even complimentary music shows. \nWhile pets aren’t allowed at the festival\, there are plenty of pet-friendly beaches and family-friendly activities in the area. You can enjoy the thrills of Orlando’s theme parks and attractions\, explore the historic charm of nearby St. Augustine\, or even catch some NASCAR races at Daytona Beach. The festival is conveniently located\, with nearby airports such as Daytona Beach International Airport and Orlando International Airport. \nPalm Coast presents a stunning setting with its river and ocean shorelines\, creating a charming backdrop for the festival. The area boasts a variety of attractions for all\, you can reach out to a travel concierge for help in organizing your journey. \nExplore our events calendar for free art and music events! \n 
URL:https://shorelineartandmusic.com/event/palm-coast-songwriters-festival/
LOCATION:Daytona State College Amphitheater\, 545 Colbert Lane\, Palm Coast\, FL\, United States
CATEGORIES:Events for Songwriters,Music Events
ATTACH;FMTTYPE=image/webp:https://shorelineartandmusic.com/wp-content/uploads/2025/05/pexels-tuurt-613813.webp
END:VEVENT
END:VCALENDAR